BEGIN:VCALENDAR
VERSION:2.0
PRODID:-//Freeport.org - ECPv6.1.3//NONSGML v1.0//EN
CALSCALE:GREGORIAN
METHOD:PUBLISH
X-ORIGINAL-URL:https://freeportmn.org
X-WR-CALDESC:Events for Freeport.org
REFRESH-INTERVAL;VALUE=DURATION:PT1H
X-Robots-Tag:noindex
X-PUBLISHED-TTL:PT1H
BEGIN:VTIMEZONE
TZID:UTC
BEGIN:STANDARD
TZOFFSETFROM:+0000
TZOFFSETTO:+0000
TZNAME:UTC
DTSTART:20210101T000000
END:STANDARD
END:VTIMEZONE
BEGIN:VEVENT
DTSTART;TZID=UTC:20210225T080000
DTEND;TZID=UTC:20210225T170000
DTSTAMP:20260420T220359
CREATED:20210225T142623Z
LAST-MODIFIED:20210225T142624Z
UID:5493-1614240000-1614272400@freeportmn.org
SUMMARY:FREEPORT LIONS EASTER EGG HUNT
DESCRIPTION:
URL:https://freeportmn.org/event/freeport-lions-easter-egg-hunt/
CATEGORIES:Events
END:VEVENT
END:VCALENDAR